Package: rnaEditr Version: 1.19.2 Command: /Library/Frameworks/R.framework/Resources/bin/R CMD build --keep-empty-dirs --no-resave-data rnaEditr StartedAt: 2025-10-17 17:34:20 -0400 (Fri, 17 Oct 2025) EndedAt: 2025-10-17 17:34:46 -0400 (Fri, 17 Oct 2025) EllapsedTime: 26.3 seconds RetCode: 0 Status: OK PackageFile: rnaEditr_1.19.2.tar.gz PackageFileSize: 1.085 MiB