Package: rnaEditr Version: 1.19.2 Command: rm -rf rnaEditr.buildbin-libdir && mkdir rnaEditr.buildbin-libdir && /Users/biocbuild/BBS/utils/build-universal.sh rnaEditr_1.19.2.tar.gz /Library/Frameworks/R.framework/Resources/bin/R rnaEditr.buildbin-libdir StartedAt: 2025-10-16 23:15:00 -0400 (Thu, 16 Oct 2025) EndedAt: 2025-10-16 23:15:17 -0400 (Thu, 16 Oct 2025) EllapsedTime: 17.2 seconds RetCode: 0 Status: OK PackageFile: rnaEditr_1.19.2.tgz PackageFileSize: 1.045 MiB