Package: rmelting Version: 1.26.0 Command: /Library/Frameworks/R.framework/Resources/bin/R CMD build --keep-empty-dirs --no-resave-data rmelting StartedAt: 2025-11-10 17:32:55 -0500 (Mon, 10 Nov 2025) EndedAt: 2025-11-10 17:33:08 -0500 (Mon, 10 Nov 2025) EllapsedTime: 13.2 seconds RetCode: 0 Status: OK PackageFile: rmelting_1.26.0.tar.gz PackageFileSize: 2.488 MiB