Package: rigvf Version: 1.1.3 Command: /home/biocbuild/R/R/bin/R CMD INSTALL rigvf StartedAt: 2025-10-20 20:28:04 -0000 (Mon, 20 Oct 2025) EndedAt: 2025-10-20 20:28:18 -0000 (Mon, 20 Oct 2025) EllapsedTime: 13.9 seconds RetCode: 0 Status: OK