Package: rigvf Version: 1.1.3 Command: /home/biocbuild/R/R/bin/R CMD check --install=check:rigvf.install-out.txt --library=/home/biocbuild/R/R/site-library --no-vignettes --timings rigvf_1.1.3.tar.gz StartedAt: 2025-10-17 12:49:57 -0000 (Fri, 17 Oct 2025) EndedAt: 2025-10-17 12:51:51 -0000 (Fri, 17 Oct 2025) EllapsedTime: 114.1 seconds RetCode: 0 Status: OK CheckDir: rigvf.Rcheck Warnings: 0