Package: rigvf Version: 1.1.3 Command: /home/biocbuild/R/R/bin/R CMD build --keep-empty-dirs --no-resave-data rigvf StartedAt: 2025-10-21 02:30:01 -0000 (Tue, 21 Oct 2025) EndedAt: 2025-10-21 02:30:43 -0000 (Tue, 21 Oct 2025) EllapsedTime: 42.0 seconds RetCode: 0 Status: OK PackageFile: rigvf_1.1.3.tar.gz PackageFileSize: 199.9 KiB