Package: rigvf Version: 1.1.3 Command: rm -rf rigvf.buildbin-libdir && mkdir rigvf.buildbin-libdir && F:\biocbuild\bbs-3.22-bioc\R\bin\R.exe CMD INSTALL --build --library=rigvf.buildbin-libdir rigvf_1.1.3.tar.gz StartedAt: 2025-08-15 11:08:44 -0400 (Fri, 15 Aug 2025) EndedAt: 2025-08-15 11:09:03 -0400 (Fri, 15 Aug 2025) EllapsedTime: 19.6 seconds RetCode: 0 Status: OK PackageFile: rigvf_1.1.3.zip PackageFileSize: 227.5 KiB