############################################################################## ############################################################################## ### ### Running command: ### ### rm -rf rigvf.buildbin-libdir && mkdir rigvf.buildbin-libdir && F:\biocbuild\bbs-3.22-bioc\R\bin\R.exe CMD INSTALL --build --library=rigvf.buildbin-libdir rigvf_1.1.3.tar.gz ### ############################################################################## ############################################################################## * installing *source* package 'rigvf' ... ** this is package 'rigvf' version '1.1.3' ** using staged installation ** R ** inst ** byte-compile and prepare package for lazy loading ** help *** installing help indices *** copying figures ** building package indices ** installing vignettes ** testing if installed package can be loaded from temporary location ** testing if installed package can be loaded from final location ** testing if installed package keeps a record of temporary installation path * MD5 sums packaged installation of 'rigvf' as rigvf_1.1.3.zip * DONE (rigvf)