Package: rigvf Version: 1.1.3 Command: /home/biocbuild/bbs-3.22-bioc/R/bin/R CMD build --keep-empty-dirs --no-resave-data --md5 rigvf StartedAt: 2025-10-20 19:34:47 -0400 (Mon, 20 Oct 2025) EndedAt: 2025-10-20 19:35:19 -0400 (Mon, 20 Oct 2025) EllapsedTime: 32.0 seconds RetCode: 0 Status: OK PackageFile: rigvf_1.1.3.tar.gz PackageFileSize: 211.3 KiB