Package: rifiComparative Version: 1.9.0 Command: /Library/Frameworks/R.framework/Resources/bin/R CMD INSTALL rifiComparative StartedAt: 2025-10-03 15:17:27 -0400 (Fri, 03 Oct 2025) EndedAt: 2025-10-03 15:17:41 -0400 (Fri, 03 Oct 2025) EllapsedTime: 14.1 seconds RetCode: 0 Status: OK