Package: rifiComparative Version: 1.9.0 Command: rm -rf rifiComparative.buildbin-libdir && mkdir rifiComparative.buildbin-libdir && /Users/biocbuild/BBS/utils/build-universal.sh rifiComparative_1.9.0.tar.gz /Library/Frameworks/R.framework/Resources/bin/R rifiComparative.buildbin-libdir StartedAt: 2025-10-03 22:52:50 -0400 (Fri, 03 Oct 2025) EndedAt: 2025-10-03 22:53:05 -0400 (Fri, 03 Oct 2025) EllapsedTime: 15.3 seconds RetCode: 0 Status: OK PackageFile: rifiComparative_1.9.0.tgz PackageFileSize: 2.438 MiB