Package: rifi Version: 1.13.1 Command: /home/biocbuild/R/R/bin/R CMD check --install=check:rifi.install-out.txt --library=/home/biocbuild/R/R/site-library --no-vignettes --timings rifi_1.13.1.tar.gz StartedAt: 2025-10-10 12:35:24 -0000 (Fri, 10 Oct 2025) EndedAt: 2025-10-10 13:15:24 -0000 (Fri, 10 Oct 2025) EllapsedTime: 2400.4 seconds RetCode: None Status: TIMEOUT CheckDir: rifi.Rcheck Warnings: NA