Package: ribor Version: 1.21.0 Command: /home/biocbuild/R/R/bin/R CMD INSTALL ribor StartedAt: 2025-10-16 21:25:53 -0000 (Thu, 16 Oct 2025) EndedAt: 2025-10-16 21:26:09 -0000 (Thu, 16 Oct 2025) EllapsedTime: 16.4 seconds RetCode: 0 Status: OK