Package: ribor Version: 1.21.0 Command: rm -rf ribor.buildbin-libdir && mkdir ribor.buildbin-libdir && F:\biocbuild\bbs-3.22-bioc\R\bin\R.exe CMD INSTALL --build --library=ribor.buildbin-libdir ribor_1.21.0.tar.gz StartedAt: 2025-08-15 11:08:16 -0400 (Fri, 15 Aug 2025) EndedAt: 2025-08-15 11:09:05 -0400 (Fri, 15 Aug 2025) EllapsedTime: 49.7 seconds RetCode: 0 Status: OK PackageFile: ribor_1.21.0.zip PackageFileSize: 4.089 MiB