Package: ribor Version: 1.21.0 Command: /home/biocbuild/bbs-3.22-bioc/R/bin/R CMD INSTALL ribor StartedAt: 2025-10-19 15:15:19 -0400 (Sun, 19 Oct 2025) EndedAt: 2025-10-19 15:15:28 -0400 (Sun, 19 Oct 2025) EllapsedTime: 8.4 seconds RetCode: 0 Status: OK