Package: ribor Version: 1.21.0 Command: /home/biocbuild/bbs-3.22-bioc/R/bin/R CMD check --install=check:ribor.install-out.txt --library=/home/biocbuild/bbs-3.22-bioc/R/site-library --timings ribor_1.21.0.tar.gz StartedAt: 2025-10-20 03:58:16 -0400 (Mon, 20 Oct 2025) EndedAt: 2025-10-20 04:00:42 -0400 (Mon, 20 Oct 2025) EllapsedTime: 146.1 seconds RetCode: 0 Status: OK CheckDir: ribor.Rcheck Warnings: 0