Package: ribor Version: 1.21.0 Command: /home/biocbuild/bbs-3.22-bioc/R/bin/R CMD build --keep-empty-dirs --no-resave-data --md5 ribor StartedAt: 2025-10-19 19:37:58 -0400 (Sun, 19 Oct 2025) EndedAt: 2025-10-19 19:39:01 -0400 (Sun, 19 Oct 2025) EllapsedTime: 63.0 seconds RetCode: 0 Status: OK PackageFile: ribor_1.21.0.tar.gz PackageFileSize: 4.477 MiB