Package: ribor Version: 1.21.0 Command: /Library/Frameworks/R.framework/Resources/bin/R CMD check --install=check:ribor.install-out.txt --library=/Library/Frameworks/R.framework/Resources/library --no-vignettes --timings ribor_1.21.0.tar.gz StartedAt: 2025-10-21 01:11:07 -0400 (Tue, 21 Oct 2025) EndedAt: 2025-10-21 01:13:13 -0400 (Tue, 21 Oct 2025) EllapsedTime: 125.7 seconds RetCode: 0 Status: OK CheckDir: ribor.Rcheck Warnings: 0