Package: ribor Version: 1.21.0 Command: /Library/Frameworks/R.framework/Resources/bin/R CMD build --keep-empty-dirs --no-resave-data ribor StartedAt: 2025-10-19 19:04:10 -0400 (Sun, 19 Oct 2025) EndedAt: 2025-10-19 19:05:52 -0400 (Sun, 19 Oct 2025) EllapsedTime: 102.4 seconds RetCode: 0 Status: OK PackageFile: ribor_1.21.0.tar.gz PackageFileSize: 4.615 MiB