Package: ribor Version: 1.21.0 Command: rm -rf ribor.buildbin-libdir && mkdir ribor.buildbin-libdir && /Users/biocbuild/BBS/utils/build-universal.sh ribor_1.21.0.tar.gz /Library/Frameworks/R.framework/Resources/bin/R ribor.buildbin-libdir StartedAt: 2025-10-20 03:28:49 -0400 (Mon, 20 Oct 2025) EndedAt: 2025-10-20 03:29:06 -0400 (Mon, 20 Oct 2025) EllapsedTime: 17.3 seconds RetCode: 0 Status: OK PackageFile: ribor_1.21.0.tgz PackageFileSize: 4.816 MiB