Package: riboSeqR Version: 1.43.1 Command: /home/biocbuild/bbs-3.22-bioc/R/bin/R CMD INSTALL riboSeqR StartedAt: 2025-10-02 15:16:56 -0400 (Thu, 02 Oct 2025) EndedAt: 2025-10-02 15:17:09 -0400 (Thu, 02 Oct 2025) EllapsedTime: 13.6 seconds RetCode: 0 Status: OK