Package: riboSeqR Version: 1.43.1 Command: /home/biocbuild/bbs-3.22-bioc/R/bin/R CMD build --keep-empty-dirs --no-resave-data --md5 riboSeqR StartedAt: 2025-10-02 19:38:37 -0400 (Thu, 02 Oct 2025) EndedAt: 2025-10-02 19:39:00 -0400 (Thu, 02 Oct 2025) EllapsedTime: 23.0 seconds RetCode: 0 Status: OK PackageFile: riboSeqR_1.43.1.tar.gz PackageFileSize: 3.651 MiB