Package: riboSeqR Version: 1.43.1 Command: /Library/Frameworks/R.framework/Resources/bin/R CMD build --keep-empty-dirs --no-resave-data riboSeqR StartedAt: 2025-10-02 18:37:53 -0400 (Thu, 02 Oct 2025) EndedAt: 2025-10-02 18:38:30 -0400 (Thu, 02 Oct 2025) EllapsedTime: 36.6 seconds RetCode: 0 Status: OK PackageFile: riboSeqR_1.43.1.tar.gz PackageFileSize: 3.649 MiB