Package: riboSeqR Version: 1.43.1 Command: rm -rf riboSeqR.buildbin-libdir && mkdir riboSeqR.buildbin-libdir && /Users/biocbuild/BBS/utils/build-universal.sh riboSeqR_1.43.1.tar.gz /Library/Frameworks/R.framework/Resources/bin/R riboSeqR.buildbin-libdir StartedAt: 2025-10-03 02:17:06 -0400 (Fri, 03 Oct 2025) EndedAt: 2025-10-03 02:17:31 -0400 (Fri, 03 Oct 2025) EllapsedTime: 25.3 seconds RetCode: 0 Status: OK PackageFile: riboSeqR_1.43.1.tgz PackageFileSize: 3.949 MiB