Package: riboSeqR Version: 1.43.1 Command: /Library/Frameworks/R.framework/Resources/bin/R CMD INSTALL riboSeqR StartedAt: 2025-10-03 15:10:53 -0400 (Fri, 03 Oct 2025) EndedAt: 2025-10-03 15:10:59 -0400 (Fri, 03 Oct 2025) EllapsedTime: 6.1 seconds RetCode: 0 Status: OK