Package: riboSeqR Version: 1.43.1 Command: /Library/Frameworks/R.framework/Resources/bin/R CMD check --install=check:riboSeqR.install-out.txt --library=/Library/Frameworks/R.framework/Resources/library --no-vignettes --timings riboSeqR_1.43.1.tar.gz StartedAt: 2025-10-03 21:20:08 -0400 (Fri, 03 Oct 2025) EndedAt: 2025-10-03 21:20:53 -0400 (Fri, 03 Oct 2025) EllapsedTime: 44.5 seconds RetCode: 0 Status: OK CheckDir: riboSeqR.Rcheck Warnings: 0