Package: rhdf5client Version: 1.31.0 Command: /home/biocbuild/R/R/bin/R CMD check --install=check:rhdf5client.install-out.txt --library=/home/biocbuild/R/R/site-library --no-vignettes --timings rhdf5client_1.31.0.tar.gz StartedAt: 2025-10-07 11:22:59 -0000 (Tue, 07 Oct 2025) EndedAt: 2025-10-07 11:25:33 -0000 (Tue, 07 Oct 2025) EllapsedTime: 154.2 seconds RetCode: 1 Status: ERROR CheckDir: rhdf5client.Rcheck Warnings: NA