Package: rhdf5client Version: 1.31.0 Command: chmod a+r rhdf5client -R && F:\biocbuild\bbs-3.22-bioc\R\bin\R.exe CMD build --keep-empty-dirs --no-resave-data rhdf5client StartedAt: 2025-08-14 22:45:49 -0400 (Thu, 14 Aug 2025) EndedAt: 2025-08-14 22:46:57 -0400 (Thu, 14 Aug 2025) EllapsedTime: 67.9 seconds RetCode: 0 Status: OK PackageFile: rhdf5client_1.31.0.tar.gz PackageFileSize: 531.3 KiB