Package: rhdf5client Version: 1.31.0 Command: /home/biocbuild/bbs-3.22-bioc/R/bin/R CMD INSTALL rhdf5client StartedAt: 2025-10-06 15:16:02 -0400 (Mon, 06 Oct 2025) EndedAt: 2025-10-06 15:16:20 -0400 (Mon, 06 Oct 2025) EllapsedTime: 17.3 seconds RetCode: 0 Status: OK