Package: rhdf5client Version: 1.31.0 Command: /home/biocbuild/bbs-3.22-bioc/R/bin/R CMD build --keep-empty-dirs --no-resave-data --md5 rhdf5client StartedAt: 2025-10-07 19:40:20 -0400 (Tue, 07 Oct 2025) EndedAt: 2025-10-07 19:40:46 -0400 (Tue, 07 Oct 2025) EllapsedTime: 26.0 seconds RetCode: 0 Status: OK PackageFile: rhdf5client_1.31.0.tar.gz PackageFileSize: 533.5 KiB