Package: rhdf5client Version: 1.31.0 Command: /Library/Frameworks/R.framework/Resources/bin/R CMD INSTALL rhdf5client StartedAt: 2025-10-10 15:23:42 -0400 (Fri, 10 Oct 2025) EndedAt: 2025-10-10 15:24:12 -0400 (Fri, 10 Oct 2025) EllapsedTime: 30.0 seconds RetCode: 0 Status: OK