Package: rhdf5client Version: 1.31.0 Command: /Library/Frameworks/R.framework/Resources/bin/R CMD build --keep-empty-dirs --no-resave-data rhdf5client StartedAt: 2025-10-10 18:53:57 -0400 (Fri, 10 Oct 2025) EndedAt: 2025-10-10 18:54:34 -0400 (Fri, 10 Oct 2025) EllapsedTime: 36.7 seconds RetCode: 0 Status: OK PackageFile: rhdf5client_1.31.0.tar.gz PackageFileSize: 531.1 KiB