Package: rhdf5client Version: 1.31.0 Command: /Library/Frameworks/R.framework/Resources/bin/R CMD INSTALL rhdf5client StartedAt: 2025-10-06 15:08:24 -0400 (Mon, 06 Oct 2025) EndedAt: 2025-10-06 15:08:32 -0400 (Mon, 06 Oct 2025) EllapsedTime: 7.9 seconds RetCode: 0 Status: OK