Package: rhdf5client Version: 1.31.0 Command: /Library/Frameworks/R.framework/Resources/bin/R CMD check --install=check:rhdf5client.install-out.txt --library=/Library/Frameworks/R.framework/Resources/library --no-vignettes --timings rhdf5client_1.31.0.tar.gz StartedAt: 2025-10-06 21:23:43 -0400 (Mon, 06 Oct 2025) EndedAt: 2025-10-06 21:24:34 -0400 (Mon, 06 Oct 2025) EllapsedTime: 50.8 seconds RetCode: 1 Status: ERROR CheckDir: rhdf5client.Rcheck Warnings: NA