Package: rhdf5client Version: 1.31.0 Command: /Library/Frameworks/R.framework/Resources/bin/R CMD build --keep-empty-dirs --no-resave-data rhdf5client StartedAt: 2025-10-06 17:30:27 -0400 (Mon, 06 Oct 2025) EndedAt: 2025-10-06 17:30:40 -0400 (Mon, 06 Oct 2025) EllapsedTime: 13.1 seconds RetCode: 0 Status: OK PackageFile: rhdf5client_1.31.0.tar.gz PackageFileSize: 530.7 KiB