Package: rhdf5 Version: 2.53.6 Command: /home/biocbuild/bbs-3.22-bioc/R/bin/R CMD INSTALL rhdf5 StartedAt: 2025-10-20 15:05:53 -0400 (Mon, 20 Oct 2025) EndedAt: 2025-10-20 15:06:38 -0400 (Mon, 20 Oct 2025) EllapsedTime: 44.5 seconds RetCode: 0 Status: OK