Package: rhdf5 Version: 2.53.6 Command: /home/biocbuild/bbs-3.22-bioc/R/bin/R CMD check --install=check:rhdf5.install-out.txt --library=/home/biocbuild/bbs-3.22-bioc/R/site-library --timings rhdf5_2.53.6.tar.gz StartedAt: 2025-10-21 03:49:23 -0400 (Tue, 21 Oct 2025) EndedAt: 2025-10-21 03:55:17 -0400 (Tue, 21 Oct 2025) EllapsedTime: 353.5 seconds RetCode: 0 Status: WARNINGS CheckDir: rhdf5.Rcheck Warnings: 3