Package: rhdf5 Version: 2.53.6 Command: /home/biocbuild/bbs-3.22-bioc/R/bin/R CMD build --keep-empty-dirs --no-resave-data --md5 rhdf5 StartedAt: 2025-10-20 19:32:36 -0400 (Mon, 20 Oct 2025) EndedAt: 2025-10-20 19:38:00 -0400 (Mon, 20 Oct 2025) EllapsedTime: 323.2 seconds RetCode: 0 Status: OK PackageFile: rhdf5_2.53.6.tar.gz PackageFileSize: 1.253 MiB