Package: rhdf5 Version: 2.53.6 Command: /Library/Frameworks/R.framework/Resources/bin/R CMD build --keep-empty-dirs --no-resave-data rhdf5 StartedAt: 2025-10-20 19:03:36 -0400 (Mon, 20 Oct 2025) EndedAt: 2025-10-20 19:05:36 -0400 (Mon, 20 Oct 2025) EllapsedTime: 120.2 seconds RetCode: 0 Status: OK PackageFile: rhdf5_2.53.6.tar.gz PackageFileSize: 1.207 MiB