Package: rhdf5 Version: 2.53.6 Command: /Library/Frameworks/R.framework/Resources/bin/R CMD INSTALL rhdf5 StartedAt: 2025-10-20 15:03:20 -0400 (Mon, 20 Oct 2025) EndedAt: 2025-10-20 15:03:30 -0400 (Mon, 20 Oct 2025) EllapsedTime: 9.9 seconds RetCode: 0 Status: OK