Package: rhdf5 Version: 2.53.6 Command: /Library/Frameworks/R.framework/Resources/bin/R CMD check --install=check:rhdf5.install-out.txt --library=/Library/Frameworks/R.framework/Resources/library --no-vignettes --timings rhdf5_2.53.6.tar.gz StartedAt: 2025-10-20 21:38:31 -0400 (Mon, 20 Oct 2025) EndedAt: 2025-10-20 21:38:50 -0400 (Mon, 20 Oct 2025) EllapsedTime: 19.3 seconds RetCode: 0 Status: WARNINGS CheckDir: rhdf5.Rcheck Warnings: 3