Package: rgsepd Version: 1.41.0 Command: F:\biocbuild\bbs-3.22-bioc\R\bin\R.exe CMD check --no-multiarch --install=check:rgsepd.install-out.txt --library=F:\biocbuild\bbs-3.22-bioc\R\library --no-vignettes --timings rgsepd_1.41.0.tar.gz StartedAt: 2025-08-15 07:03:43 -0400 (Fri, 15 Aug 2025) EndedAt: 2025-08-15 07:14:30 -0400 (Fri, 15 Aug 2025) EllapsedTime: 646.8 seconds RetCode: 0 Status: OK CheckDir: rgsepd.Rcheck Warnings: 0