Package: rgsepd Version: 1.42.0 Command: /Library/Frameworks/R.framework/Resources/bin/R CMD check --install=check:rgsepd.install-out.txt --library=/Library/Frameworks/R.framework/Resources/library --no-vignettes --timings rgsepd_1.42.0.tar.gz StartedAt: 2025-11-10 21:57:09 -0500 (Mon, 10 Nov 2025) EndedAt: 2025-11-10 22:00:23 -0500 (Mon, 10 Nov 2025) EllapsedTime: 194.6 seconds RetCode: 0 Status: OK CheckDir: rgsepd.Rcheck Warnings: 0