Package: rfaRm Version: 1.22.0 Command: /Library/Frameworks/R.framework/Resources/bin/R CMD INSTALL rfaRm StartedAt: 2025-11-03 15:38:58 -0500 (Mon, 03 Nov 2025) EndedAt: 2025-11-03 15:39:20 -0500 (Mon, 03 Nov 2025) EllapsedTime: 22.4 seconds RetCode: 0 Status: OK