Package: rfaRm Version: 1.22.0 Command: /Library/Frameworks/R.framework/Resources/bin/R CMD build --keep-empty-dirs --no-resave-data rfaRm StartedAt: 2025-11-03 18:27:08 -0500 (Mon, 03 Nov 2025) EndedAt: 2025-11-03 18:28:03 -0500 (Mon, 03 Nov 2025) EllapsedTime: 54.8 seconds RetCode: 0 Status: OK PackageFile: rfaRm_1.22.0.tar.gz PackageFileSize: 562 KiB