Package: rfaRm Version: 1.22.0 Command: rm -rf rfaRm.buildbin-libdir && mkdir rfaRm.buildbin-libdir && /Users/biocbuild/BBS/utils/build-universal.sh rfaRm_1.22.0.tar.gz /Library/Frameworks/R.framework/Resources/bin/R rfaRm.buildbin-libdir StartedAt: 2025-11-04 01:59:00 -0500 (Tue, 04 Nov 2025) EndedAt: 2025-11-04 01:59:27 -0500 (Tue, 04 Nov 2025) EllapsedTime: 26.4 seconds RetCode: 0 Status: OK PackageFile: rfaRm_1.22.0.tgz PackageFileSize: 598.2 KiB