Package: rexposome Version: 1.31.0 Command: /home/biocbuild/R/R/bin/R CMD check --install=check:rexposome.install-out.txt --library=/home/biocbuild/R/R/site-library --no-vignettes --timings rexposome_1.31.0.tar.gz StartedAt: 2025-10-17 12:44:45 -0000 (Fri, 17 Oct 2025) EndedAt: 2025-10-17 12:48:43 -0000 (Fri, 17 Oct 2025) EllapsedTime: 238.4 seconds RetCode: 0 Status: WARNINGS CheckDir: rexposome.Rcheck Warnings: 5