Package: rexposome Version: 1.31.0 Command: /home/biocbuild/R/R/bin/R CMD build --keep-empty-dirs --no-resave-data rexposome StartedAt: 2025-10-17 03:57:24 -0000 (Fri, 17 Oct 2025) EndedAt: 2025-10-17 03:59:57 -0000 (Fri, 17 Oct 2025) EllapsedTime: 153.1 seconds RetCode: 0 Status: OK PackageFile: rexposome_1.31.0.tar.gz PackageFileSize: 5.791 MiB