Package: rexposome Version: 1.31.0 Command: chmod a+r rexposome -R && F:\biocbuild\bbs-3.22-bioc\R\bin\R.exe CMD build --keep-empty-dirs --no-resave-data rexposome StartedAt: 2025-08-14 22:44:07 -0400 (Thu, 14 Aug 2025) EndedAt: 2025-08-14 22:47:36 -0400 (Thu, 14 Aug 2025) EllapsedTime: 208.9 seconds RetCode: 0 Status: OK PackageFile: rexposome_1.31.0.tar.gz PackageFileSize: 5.514 MiB