Package: rexposome Version: 1.31.0 Command: rm -rf rexposome.buildbin-libdir && mkdir rexposome.buildbin-libdir && F:\biocbuild\bbs-3.22-bioc\R\bin\R.exe CMD INSTALL --build --library=rexposome.buildbin-libdir rexposome_1.31.0.tar.gz StartedAt: 2025-08-15 11:07:01 -0400 (Fri, 15 Aug 2025) EndedAt: 2025-08-15 11:08:33 -0400 (Fri, 15 Aug 2025) EllapsedTime: 91.8 seconds RetCode: 0 Status: OK PackageFile: rexposome_1.31.0.zip PackageFileSize: 6.006 MiB